BEGIN:VCALENDAR
VERSION:2.0
PRODID:-//hacksw/handcal//NONSGML v1.0//EN
BEGIN:VEVENT
SUMMARY:Challenge Luc Vuillet de U11 a U18
UID:5086da4a-353e-43ff-a73e-d0ce52f42380
DTSTART:20260214T230000Z
DTEND:20260215T230000Z
LOCATION:Localisation   
CATEGORIES:Sportif
STATUS:
DESCRIPTION:<p><b>Comme decide en commission nordique les course
 organisee pas le club sont obligatoires
 !!!!</b></p>
 
 <p><b>inscription avant jeudi
 12h</b></p>
 
 <p> </p>
 
 <p> </p>
 
 <p> </p>
URL;VALUE=URI:https://www.hautjuraski.fr/evenements/2026/02/15/challenge-luc-vuillet-de-u11-a-u18-2404354
END:VEVENT
END:VCALENDAR
